BEGIN:VCALENDAR
VERSION:2.0
PRODID:-//Trinity Christian Skippack - ECPv6.15.20//NONSGML v1.0//EN
CALSCALE:GREGORIAN
METHOD:PUBLISH
X-WR-CALNAME:Trinity Christian Skippack
X-ORIGINAL-URL:https://trinityskippack.org
X-WR-CALDESC:Events for Trinity Christian Skippack
REFRESH-INTERVAL;VALUE=DURATION:PT1H
X-Robots-Tag:noindex
X-PUBLISHED-TTL:PT1H
BEGIN:VTIMEZONE
TZID:America/New_York
BEGIN:DAYLIGHT
TZOFFSETFROM:-0500
TZOFFSETTO:-0400
TZNAME:EDT
DTSTART:20250309T070000
END:DAYLIGHT
BEGIN:STANDARD
TZOFFSETFROM:-0400
TZOFFSETTO:-0500
TZNAME:EST
DTSTART:20251102T060000
END:STANDARD
BEGIN:DAYLIGHT
TZOFFSETFROM:-0500
TZOFFSETTO:-0400
TZNAME:EDT
DTSTART:20260308T070000
END:DAYLIGHT
BEGIN:STANDARD
TZOFFSETFROM:-0400
TZOFFSETTO:-0500
TZNAME:EST
DTSTART:20261101T060000
END:STANDARD
BEGIN:DAYLIGHT
TZOFFSETFROM:-0500
TZOFFSETTO:-0400
TZNAME:EDT
DTSTART:20270314T070000
END:DAYLIGHT
BEGIN:STANDARD
TZOFFSETFROM:-0400
TZOFFSETTO:-0500
TZNAME:EST
DTSTART:20271107T060000
END:STANDARD
END:VTIMEZONE
BEGIN:VEVENT
DTSTART;TZID=America/New_York:20260408T190000
DTEND;TZID=America/New_York:20260408T203000
DTSTAMP:20260422T154907
CREATED:20240927T153613Z
LAST-MODIFIED:20260108T203524Z
UID:2569-1775674800-1775680200@trinityskippack.org
SUMMARY:Trinity Choir Rehearsal -- April 8\, 2026
DESCRIPTION:Everyone in 7th grade and up is welcome to join Trinity’s choir. We rehearse every Wednesday at 7 pm. Denni and our Worship Committee are excited about all of the upcoming music we will sing as we worship God together. Please join us!
URL:https://trinityskippack.org/event/trinity-choir-rehearsal-28/
LOCATION:Trinity Christian UCC\, 2009 Church Road\, Skippack\, PA\, 19474\, United States
END:VEVENT
END:VCALENDAR