BEGIN:VCALENDAR
VERSION:2.0
PRODID:-//Trinity Christian Skippack - ECPv6.15.20//NONSGML v1.0//EN
CALSCALE:GREGORIAN
METHOD:PUBLISH
X-WR-CALNAME:Trinity Christian Skippack
X-ORIGINAL-URL:https://trinityskippack.org
X-WR-CALDESC:Events for Trinity Christian Skippack
REFRESH-INTERVAL;VALUE=DURATION:PT1H
X-Robots-Tag:noindex
X-PUBLISHED-TTL:PT1H
BEGIN:VTIMEZONE
TZID:America/New_York
BEGIN:DAYLIGHT
TZOFFSETFROM:-0500
TZOFFSETTO:-0400
TZNAME:EDT
DTSTART:20250309T070000
END:DAYLIGHT
BEGIN:STANDARD
TZOFFSETFROM:-0400
TZOFFSETTO:-0500
TZNAME:EST
DTSTART:20251102T060000
END:STANDARD
BEGIN:DAYLIGHT
TZOFFSETFROM:-0500
TZOFFSETTO:-0400
TZNAME:EDT
DTSTART:20260308T070000
END:DAYLIGHT
BEGIN:STANDARD
TZOFFSETFROM:-0400
TZOFFSETTO:-0500
TZNAME:EST
DTSTART:20261101T060000
END:STANDARD
BEGIN:DAYLIGHT
TZOFFSETFROM:-0500
TZOFFSETTO:-0400
TZNAME:EDT
DTSTART:20270314T070000
END:DAYLIGHT
BEGIN:STANDARD
TZOFFSETFROM:-0400
TZOFFSETTO:-0500
TZNAME:EST
DTSTART:20271107T060000
END:STANDARD
END:VTIMEZONE
BEGIN:VEVENT
DTSTART;TZID=America/New_York:20260429T190000
DTEND;TZID=America/New_York:20260429T203000
DTSTAMP:20260424T041551
CREATED:20240927T153808Z
LAST-MODIFIED:20260108T205813Z
UID:2573-1777489200-1777494600@trinityskippack.org
SUMMARY:Trinity Choir Rehearsal -- April 2026
DESCRIPTION:Everyone in 7th grade and up is welcome to join Trinity’s choir. We rehearse every Wednesday at 7 pm. Denni and our Worship Committee are excited about all of the upcoming music we will sing as we worship God together. Please join us!
URL:https://trinityskippack.org/event/trinity-choir-rehearsal-29/
LOCATION:Trinity Christian UCC\, 2009 Church Road\, Skippack\, PA\, 19474\, United States
END:VEVENT
BEGIN:VEVENT
DTSTART;TZID=America/New_York:20260503T101500
DTEND;TZID=America/New_York:20260503T111500
DTSTAMP:20260424T041551
CREATED:20240815T200818Z
LAST-MODIFIED:20260108T205614Z
UID:2259-1777803300-1777806900@trinityskippack.org
SUMMARY:Sunday Worship\, Children's Sunday School\, and Adult Bible Study -- May 2026
DESCRIPTION:Everyone is welcome to join us on Sunday mornings at Trinity! Our weekly worship service begins at 10:15. Our pastor preaches the word of God and emphasizes how our faith guides and impacts our lives. Our services blend both traditional and contemporary music supported by our wonderful choir. \nWe have professional nursery caregivers who provide childcare to our kids 5 and under during worship. We have Sunday School for children aged 4 through 6th grade during worship — the kids stay in the worship service until the Children’s Message and then go to their class. All of our teachers and assistants are church members who have background checks. \nAdults are invited to our weekly Bible Study at 8:30 am. We gather for conversation and coffee. We discuss the intersection of our Christain faith with timely current events. \nOur tweens and teens are welcome to join their Sunday morning class weekly at 9:15 in our Education Building Social Hall.
URL:https://trinityskippack.org/event/sunday-worship-childrens-sunday-school-and-adult-bible-study/
LOCATION:Trinity Christian UCC\, 2009 Church Road\, Skippack\, PA\, 19474\, United States
END:VEVENT
BEGIN:VEVENT
DTSTART;TZID=America/New_York:20260505T000000
DTEND;TZID=America/New_York:20260505T140000
DTSTAMP:20260424T041551
CREATED:20240813T143618Z
LAST-MODIFIED:20260108T211058Z
UID:2177-1777939200-1777989600@trinityskippack.org
SUMMARY:Lunch Bunch Bible Study -- May 2026
DESCRIPTION:Lunch Bunch meets weekly on Tuesday at 12 pm for food\, fellowship\, and Bible study. We each bring a lunch and enjoy conversation as we eat. We typically study the Biblical text that will be the focus of the up-coming Sunday worship service. Parents are invited to bring their children. We gather in our Education Building’s Social Hall. Please join us!
URL:https://trinityskippack.org/event/lunch-bunch-bible-study-5/
LOCATION:Trinity Christian UCC\, 2009 Church Road\, Skippack\, PA\, 19474\, United States
END:VEVENT
BEGIN:VEVENT
DTSTART;TZID=America/New_York:20260506T100000
DTEND;TZID=America/New_York:20260506T120000
DTSTAMP:20260424T041551
CREATED:20260108T202743Z
LAST-MODIFIED:20260108T202743Z
UID:3622-1778061600-1778068800@trinityskippack.org
SUMMARY:Ursinus UCC Ministerium -- May 2026
DESCRIPTION:Each Month\, September through June\, the ministers of the Ursinus Association gather for a time of coffee\, conversation\, support\, and education. We typically meet the first Wednesday of each month at 10 am at Trinity Christian UCC in Skippack. If you have questions about our gathering\, ask Pastor Amelie (267-719-4388). All clergy persons in the Ursinus Ministerium are welcome.
URL:https://trinityskippack.org/event/ursinus-ucc-ministerium-may-2026/
LOCATION:PA
END:VEVENT
BEGIN:VEVENT
DTSTART;TZID=America/New_York:20260506T190000
DTEND;TZID=America/New_York:20260506T203000
DTSTAMP:20260424T041551
CREATED:20240927T153852Z
LAST-MODIFIED:20260108T210547Z
UID:2575-1778094000-1778099400@trinityskippack.org
SUMMARY:Trinity Choir Rehearsal -- May 2026
DESCRIPTION:Everyone in 7th grade and up is welcome to join Trinity’s choir. We rehearse every Wednesday at 7 pm. Denni and our Worship Committee are excited about all of the upcoming music we will sing as we worship God together. Please join us!
URL:https://trinityskippack.org/event/trinity-choir-rehearsal-30/
LOCATION:Trinity Christian UCC\, 2009 Church Road\, Skippack\, PA\, 19474\, United States
END:VEVENT
BEGIN:VEVENT
DTSTART;TZID=America/New_York:20260507T190000
DTEND;TZID=America/New_York:20260507T200000
DTSTAMP:20260424T041551
CREATED:20260108T212722Z
LAST-MODIFIED:20260108T212722Z
UID:3666-1778180400-1778184000@trinityskippack.org
SUMMARY:Trinity Property Committee -- May 2026
DESCRIPTION:
URL:https://trinityskippack.org/event/trinity-property-committee-may-2026/
LOCATION:PA
END:VEVENT
BEGIN:VEVENT
DTSTART;TZID=America/New_York:20260509T083000
DTEND;TZID=America/New_York:20260509T100000
DTSTAMP:20260424T041551
CREATED:20241004T151714Z
LAST-MODIFIED:20260108T211246Z
UID:2601-1778315400-1778320800@trinityskippack.org
SUMMARY:May Men's Breakfast -- 2026
DESCRIPTION:All men are invited to our informal and fun monthly breakfast at the Energy Station in Harleysville. We gather on the second Saturday of the month at 8:30 am for prayer\, food and conversation. Please join us
URL:https://trinityskippack.org/event/may-mens-breakfast/
LOCATION:The Energy Station\, 2710 Shelly Road\, Harleysville\, PA\, 19438\, United States
END:VEVENT
BEGIN:VEVENT
DTSTART;TZID=America/New_York:20260510T101500
DTEND;TZID=America/New_York:20260510T111500
DTSTAMP:20260424T041551
CREATED:20240815T201259Z
LAST-MODIFIED:20260108T210954Z
UID:2263-1778408100-1778411700@trinityskippack.org
SUMMARY:Sunday Worship\, Children's Sunday School\, and Adult Bible Study -- May 2026
DESCRIPTION:Everyone is welcome to join us on Sunday mornings at Trinity! Our weekly worship service begins at 10:15. Our pastor preaches the word of God and emphasizes how our faith guides and impacts our lives. Our services blend both traditional and contemporary music supported by our wonderful choir. \nWe have professional nursery caregivers who provide childcare to our kids 5 and under during worship. We have Sunday School for children aged 4 through 6th grade during worship — the kids stay in the worship service until the Children’s Message and then go to their class. All of our teachers and assistants are church members who have background checks. \nAdults are invited to our weekly Bible Study at 8:30 am. We gather for conversation and coffee. We discuss the intersection of our Christain faith with timely current events. \nOur tweens and teens are welcome to join their Sunday morning class weekly at 9:15 in our Education Building Social Hall.
URL:https://trinityskippack.org/event/sunday-worship-childrens-sunday-school-and-adult-bible-study-3/
LOCATION:Trinity Christian UCC\, 2009 Church Road\, Skippack\, PA\, 19474\, United States
END:VEVENT
BEGIN:VEVENT
DTSTART;TZID=America/New_York:20260512T000000
DTEND;TZID=America/New_York:20260512T140000
DTSTAMP:20260424T041551
CREATED:20240813T143741Z
LAST-MODIFIED:20260108T211457Z
UID:2179-1778544000-1778594400@trinityskippack.org
SUMMARY:Lunch Bunch Bible Study -- May 2026
DESCRIPTION:Lunch Bunch meets weekly on Tuesday at 12 pm for food\, fellowship\, and Bible study. We each bring a lunch and enjoy conversation as we eat. We typically study the Biblical text that will be the focus of the up-coming Sunday worship service. Parents are invited to bring their children. We gather in our Education Building’s Social Hall. Please join us!
URL:https://trinityskippack.org/event/lunch-bunch-bible-study-6/
LOCATION:Trinity Christian UCC\, 2009 Church Road\, Skippack\, PA\, 19474\, United States
END:VEVENT
BEGIN:VEVENT
DTSTART;TZID=America/New_York:20260513T190000
DTEND;TZID=America/New_York:20260513T203000
DTSTAMP:20260424T041551
CREATED:20240927T153957Z
LAST-MODIFIED:20260108T211157Z
UID:2577-1778698800-1778704200@trinityskippack.org
SUMMARY:Trinity Choir Rehearsal -- May 2026
DESCRIPTION:Everyone in 7th grade and up is welcome to join Trinity’s choir. We rehearse every Wednesday at 7 pm. Denni and our Worship Committee are excited about all of the upcoming music we will sing as we worship God together. Please join us!
URL:https://trinityskippack.org/event/trinity-choir-rehearsal-31/
LOCATION:Trinity Christian UCC\, 2009 Church Road\, Skippack\, PA\, 19474\, United States
END:VEVENT
BEGIN:VEVENT
DTSTART;TZID=America/New_York:20260514T190000
DTEND;TZID=America/New_York:20260514T200000
DTSTAMP:20260424T041551
CREATED:20260108T212817Z
LAST-MODIFIED:20260108T212817Z
UID:3668-1778785200-1778788800@trinityskippack.org
SUMMARY:Trinity Consistory Meeting -- May 2026
DESCRIPTION:
URL:https://trinityskippack.org/event/trinity-consistory-meeting-may-2026/
LOCATION:PA
END:VEVENT
BEGIN:VEVENT
DTSTART;TZID=America/New_York:20260517T101500
DTEND;TZID=America/New_York:20260517T113000
DTSTAMP:20260424T041551
CREATED:20241107T173252Z
LAST-MODIFIED:20260108T211345Z
UID:2737-1779012900-1779017400@trinityskippack.org
SUMMARY:Sunday Worship\, Children's Sunday School\, and Adult Bible Study -- May 2026
DESCRIPTION:Everyone is welcome to join us on Sunday mornings at Trinity! Our weekly worship service begins at 10:15. Our pastor preaches the word of God and emphasizes how our faith guides and impacts our lives. Our services blend both traditional and contemporary music supported by our wonderful choir. \nWe have professional nursery caregivers who provide childcare to our kids 5 and under during worship. We have Sunday School for children aged 4 through 6th grade during worship — the kids stay in the worship service until the Children’s Message and then go to their class. All of our teachers and assistants are church members who have background checks. \nAdults are invited to our weekly Bible Study at 8:30 am. We gather for conversation and coffee. We discuss the intersection of our Christain faith with timely current events. \nOur tweens and teens are welcome to join their Sunday morning class weekly at 9:15 in our Education Building Social Hall.
URL:https://trinityskippack.org/event/sunday-worship-childrens-sunday-school-and-adult-bible-study-may-2025/
LOCATION:Trinity Christian UCC\, 2009 Church Road\, Skippack\, PA\, 19474\, United States
END:VEVENT
BEGIN:VEVENT
DTSTART;TZID=America/New_York:20260519T120000
DTEND;TZID=America/New_York:20260519T140000
DTSTAMP:20260424T041551
CREATED:20241004T153426Z
LAST-MODIFIED:20260108T211942Z
UID:2630-1779192000-1779199200@trinityskippack.org
SUMMARY:Lunch Bunch Bible Study -- May 2026
DESCRIPTION:Lunch Bunch meets weekly on Tuesday at 12 pm for food\, fellowship\, and Bible study. We each bring a lunch and enjoy conversation as we eat. We typically study the Biblical text that will be the focus of the up-coming Sunday worship service. Parents are invited to bring their children. We gather in our Education Building’s Social Hall. Please join us!
URL:https://trinityskippack.org/event/lunch-bunch-bible-study-26/
LOCATION:Trinity Christian UCC\, 2009 Church Road\, Skippack\, PA\, 19474\, United States
END:VEVENT
BEGIN:VEVENT
DTSTART;TZID=America/New_York:20260520T080000
DTEND;TZID=America/New_York:20260520T170000
DTSTAMP:20260424T041551
CREATED:20241004T153022Z
LAST-MODIFIED:20260108T211556Z
UID:2623-1779264000-1779296400@trinityskippack.org
SUMMARY:Trinity Choir Rehearsal -- May 2026
DESCRIPTION:Everyone in 7th grade and up is welcome to join Trinity’s choir. We rehearse every Wednesday at 7 pm. Denni and our Worship Committee are excited about all of the upcoming music we will sing as we worship God together. Please join us!
URL:https://trinityskippack.org/event/trinity-choir-rehearsal-32/
LOCATION:Trinity Christian UCC\, 2009 Church Road\, Skippack\, PA\, 19474\, United States
END:VEVENT
BEGIN:VEVENT
DTSTART;TZID=America/New_York:20260521T183000
DTEND;TZID=America/New_York:20260521T193000
DTSTAMP:20260424T041551
CREATED:20260108T212911Z
LAST-MODIFIED:20260108T212911Z
UID:3670-1779388200-1779391800@trinityskippack.org
SUMMARY:Consistory Worship Committee -- May 2026
DESCRIPTION:
URL:https://trinityskippack.org/event/consistory-worship-committee-may-2026/
LOCATION:PA
END:VEVENT
BEGIN:VEVENT
DTSTART;TZID=America/New_York:20260523T083000
DTEND;TZID=America/New_York:20260523T100000
DTSTAMP:20260424T041551
CREATED:20241004T152330Z
LAST-MODIFIED:20260108T212309Z
UID:2613-1779525000-1779530400@trinityskippack.org
SUMMARY:May Women's Breakfast -- 2026
DESCRIPTION:All women are invited to our informal and fun monthly breakfast at the So Much to Give Inclusive Cafe in Cedars. We gather on the fourth Saturday of the month at 8:30 am for prayer\, food and conversation. Please join us!
URL:https://trinityskippack.org/event/may-womens-breakfast/
LOCATION:So Much To Give Incluive Cafe\, 3401 Skippack Pike\, Cedars\, 19423\, United States
END:VEVENT
BEGIN:VEVENT
DTSTART;TZID=America/New_York:20260524T101500
DTEND;TZID=America/New_York:20260524T113000
DTSTAMP:20260424T041551
CREATED:20241107T173622Z
LAST-MODIFIED:20260108T211654Z
UID:2739-1779617700-1779622200@trinityskippack.org
SUMMARY:Sunday Worship\, Children's Sunday School\, and Adult Bible Study -- May 2026
DESCRIPTION:Everyone is welcome to join us on Sunday mornings at Trinity! Our weekly worship service begins at 10:15. Our pastor preaches the word of God and emphasizes how our faith guides and impacts our lives. Our services blend both traditional and contemporary music supported by our wonderful choir. \nWe have professional nursery caregivers who provide childcare to our kids 5 and under during worship. We have Sunday School for children aged 4 through 6th grade during worship — the kids stay in the worship service until the Children’s Message and then go to their class. All of our teachers and assistants are church members who have background checks. \nAdults are invited to our weekly Bible Study at 8:30 am. We gather for conversation and coffee. We discuss the intersection of our Christain faith with timely current events. \nOur tweens and teens are welcome to join their Sunday morning class weekly at 9:15 in our Education Building Social Hall.
URL:https://trinityskippack.org/event/sunday-worship-childrens-sunday-school-and-adult-bible-study-may-2025-2/
LOCATION:Trinity Christian UCC\, 2009 Church Road\, Skippack\, PA\, 19474\, United States
END:VEVENT
BEGIN:VEVENT
DTSTART;TZID=America/New_York:20260526T120000
DTEND;TZID=America/New_York:20260526T140000
DTSTAMP:20260424T041551
CREATED:20240823T183031Z
LAST-MODIFIED:20260108T211751Z
UID:2373-1779796800-1779804000@trinityskippack.org
SUMMARY:Lunch Bunch Bible Study -- May 2026
DESCRIPTION:Lunch Bunch meets weekly on Tuesday at 12 pm for food\, fellowship\, and Bible study. We each bring a lunch and enjoy conversation as we eat. We typically study the Biblical text that will be the focus of the up-coming Sunday worship service. Parents are invited to bring their children. We gather in our Education Building’s Social Hall. Please join us!
URL:https://trinityskippack.org/event/lunch-bunch-bible-study-7/
LOCATION:Trinity Christian UCC\, 2009 Church Road\, Skippack\, PA\, 19474\, United States
END:VEVENT
BEGIN:VEVENT
DTSTART;TZID=America/New_York:20260527T190000
DTEND;TZID=America/New_York:20260527T203000
DTSTAMP:20260424T041551
CREATED:20241004T153119Z
LAST-MODIFIED:20260108T212139Z
UID:2626-1779908400-1779913800@trinityskippack.org
SUMMARY:Trinity Choir Rehearsal -- May 2026
DESCRIPTION:Everyone in 7th grade and up is welcome to join Trinity’s choir. We rehearse every Wednesday at 7 pm. Denni and our Worship Committee are excited about all of the upcoming music we will sing as we worship God together. Please join us!
URL:https://trinityskippack.org/event/trinity-choir-rehearsal-33/
LOCATION:Trinity Christian UCC\, 2009 Church Road\, Skippack\, PA\, 19474\, United States
END:VEVENT
BEGIN:VEVENT
DTSTART;TZID=America/New_York:20260531T101500
DTEND;TZID=America/New_York:20260531T113000
DTSTAMP:20260424T041551
CREATED:20241107T173800Z
LAST-MODIFIED:20260108T212421Z
UID:2745-1780222500-1780227000@trinityskippack.org
SUMMARY:Sunday Worship\, Children's Sunday School\, and Adult Bible Study -- May 2026
DESCRIPTION:Everyone is welcome to join us on Sunday mornings at Trinity! Our weekly worship service begins at 10:15. Our pastor preaches the word of God and emphasizes how our faith guides and impacts our lives. Our services blend both traditional and contemporary music supported by our wonderful choir. \nWe have professional nursery caregivers who provide childcare to our kids 5 and under during worship. We have Sunday School for children aged 4 through 6th grade during worship — the kids stay in the worship service until the Children’s Message and then go to their class. All of our teachers and assistants are church members who have background checks. \nAdults are invited to our weekly Bible Study at 8:30 am. We gather for conversation and coffee. We discuss the intersection of our Christain faith with timely current events. \nOur tweens and teens are welcome to join their Sunday morning class weekly at 9:15 in our Education Building Social Hall.
URL:https://trinityskippack.org/event/sunday-worship-childrens-sunday-school-and-adult-bible-study-may-2025-3/
LOCATION:Trinity Christian UCC\, 2009 Church Road\, Skippack\, PA\, 19474\, United States
END:VEVENT
BEGIN:VEVENT
DTSTART;TZID=America/New_York:20260602T120000
DTEND;TZID=America/New_York:20260602T140000
DTSTAMP:20260424T041551
CREATED:20241004T153643Z
LAST-MODIFIED:20260108T213446Z
UID:2632-1780401600-1780408800@trinityskippack.org
SUMMARY:Lunch Bunch Bible Study -- June 2026
DESCRIPTION:Lunch Bunch meets weekly on Tuesday at 12 pm for food\, fellowship\, and Bible study. We each bring a lunch and enjoy conversation as we eat. We typically study the Biblical text that will be the focus of the up-coming Sunday worship service. Parents are invited to bring their children. We gather in our Education Building’s Social Hall. Please join us!
URL:https://trinityskippack.org/event/lunch-bunch-bible-study-27/
LOCATION:Trinity Christian UCC\, 2009 Church Road\, Skippack\, PA\, 19474\, United States
END:VEVENT
BEGIN:VEVENT
DTSTART;TZID=America/New_York:20260603T100000
DTEND;TZID=America/New_York:20260603T120000
DTSTAMP:20260424T041551
CREATED:20240823T173653Z
LAST-MODIFIED:20260108T213044Z
UID:2348-1780480800-1780488000@trinityskippack.org
SUMMARY:Ursinus UCC Ministerium -- June 2026
DESCRIPTION:Each Month\, September through June\, the ministers of the Ursinus Association gather for a time of coffee\, conversation\, support\, and education. We typically meet the first Wednesday of each month at 10 am at Trinity Christian UCC in Skippack. If you have questions about our gathering\, ask Pastor Amelie (267-719-4388). All clergy persons in the Ursinus Ministerium are welcome.
URL:https://trinityskippack.org/event/ursinus-ucc-ministerium-9/
LOCATION:Trinity Christian UCC\, 2009 Church Road\, Skippack\, PA\, 19474\, United States
END:VEVENT
BEGIN:VEVENT
DTSTART;TZID=America/New_York:20260604T190000
DTEND;TZID=America/New_York:20260604T200000
DTSTAMP:20260424T041551
CREATED:20260108T214638Z
LAST-MODIFIED:20260108T214638Z
UID:3684-1780599600-1780603200@trinityskippack.org
SUMMARY:Trinity Property Committee -- June 2026
DESCRIPTION:
URL:https://trinityskippack.org/event/trinity-property-committee-june-2026/
LOCATION:PA
END:VEVENT
BEGIN:VEVENT
DTSTART;TZID=America/New_York:20260607T101500
DTEND;TZID=America/New_York:20260607T113000
DTSTAMP:20260424T041551
CREATED:20241107T174042Z
LAST-MODIFIED:20260108T212608Z
UID:2747-1780827300-1780831800@trinityskippack.org
SUMMARY:Sunday Worship and Adult Bible Study -- June 2026
DESCRIPTION:Everyone is welcome to join us on Sunday mornings at Trinity! Our weekly worship service begins at 10:15. Our pastor preaches the word of God and emphasizes how our faith guides and impacts our lives. Our services blend both traditional and contemporary music supported by our wonderful choir. \nWe have professional nursery caregivers who provide childcare to our kids 5 and under during worship. \nAdults are invited to our weekly Bible Study at 9 am. We gather for conversation and coffee. We discuss the intersection of our Christain faith with timely current events.
URL:https://trinityskippack.org/event/sunday-worship-and-adult-bible-study-june-2025/
LOCATION:Trinity Christian UCC\, 2009 Church Road\, Skippack\, PA\, 19474\, United States
END:VEVENT
BEGIN:VEVENT
DTSTART;TZID=America/New_York:20260609T120000
DTEND;TZID=America/New_York:20260609T140000
DTSTAMP:20260424T041552
CREATED:20241004T153734Z
LAST-MODIFIED:20260108T213638Z
UID:2635-1781006400-1781013600@trinityskippack.org
SUMMARY:Lunch Bunch Bible Study -- June 2026
DESCRIPTION:Lunch Bunch meets weekly on Tuesday at 12 pm for food\, fellowship\, and Bible study. We each bring a lunch and enjoy conversation as we eat. We typically study the Biblical text that will be the focus of the up-coming Sunday worship service. Parents are invited to bring their children. We gather in our Education Building’s Social Hall. Please join us!
URL:https://trinityskippack.org/event/lunch-bunch-bible-study-28/
LOCATION:Trinity Christian UCC\, 2009 Church Road\, Skippack\, PA\, 19474\, United States
END:VEVENT
BEGIN:VEVENT
DTSTART;TZID=America/New_York:20260611T190000
DTEND;TZID=America/New_York:20260611T200000
DTSTAMP:20260424T041552
CREATED:20260108T214826Z
LAST-MODIFIED:20260122T161018Z
UID:3686-1781204400-1781208000@trinityskippack.org
SUMMARY:Trinity Consistory -- June 2026
DESCRIPTION:Our Consistory will meet at 7 pm.
URL:https://trinityskippack.org/event/trinity-consistory-june-2026/
LOCATION:PA
END:VEVENT
BEGIN:VEVENT
DTSTART;TZID=America/New_York:20260613T083000
DTEND;TZID=America/New_York:20260613T100000
DTSTAMP:20260424T041552
CREATED:20241004T151805Z
LAST-MODIFIED:20260108T213732Z
UID:2603-1781339400-1781344800@trinityskippack.org
SUMMARY:June Men's Breakfast 2026
DESCRIPTION:All men are invited to our informal and fun monthly breakfast at the Energy Station in Harleysville. We gather on the second Saturday of the month at 8:30 am for prayer\, food and conversation. Please join us
URL:https://trinityskippack.org/event/june-mens-breakfast/
LOCATION:The Energy Station\, 2710 Shelly Road\, Harleysville\, PA\, 19438\, United States
END:VEVENT
BEGIN:VEVENT
DTSTART;TZID=America/New_York:20260614T101500
DTEND;TZID=America/New_York:20260614T113000
DTSTAMP:20260424T041552
CREATED:20241107T174306Z
LAST-MODIFIED:20260108T213541Z
UID:2750-1781432100-1781436600@trinityskippack.org
SUMMARY:Sunday Worship and Adult Bible Study -- June 2026
DESCRIPTION:Everyone is welcome to join us on Sunday mornings at Trinity! Our weekly worship service begins at 10:15. Our pastor preaches the word of God and emphasizes how our faith guides and impacts our lives. Our services blend both traditional and contemporary music supported by our wonderful choir. \nWe have professional nursery caregivers who provide childcare to our kids 5 and under during worship. \nAdults are invited to our weekly Bible Study at 9 am. We gather for conversation and coffee. We discuss the intersection of our Christain faith with timely current events.
URL:https://trinityskippack.org/event/sunday-worship-and-adult-bible-study-june-2025-2/
LOCATION:Trinity Christian UCC\, 2009 Church Road\, Skippack\, PA\, 19474\, United States
END:VEVENT
BEGIN:VEVENT
DTSTART;TZID=America/New_York:20260616T120000
DTEND;TZID=America/New_York:20260616T140000
DTSTAMP:20260424T041552
CREATED:20241004T153827Z
LAST-MODIFIED:20260108T213938Z
UID:2637-1781611200-1781618400@trinityskippack.org
SUMMARY:Lunch Bunch Bible Study -- June 2026
DESCRIPTION:Lunch Bunch meets weekly on Tuesday at 12 pm for food\, fellowship\, and Bible study. We each bring a lunch and enjoy conversation as we eat. We typically study the Biblical text that will be the focus of the up-coming Sunday worship service. Parents are invited to bring their children. We gather in our Education Building’s Social Hall. Please join us!
URL:https://trinityskippack.org/event/lunch-bunch-bible-study-29/
LOCATION:Trinity Christian UCC\, 2009 Church Road\, Skippack\, PA\, 19474\, United States
END:VEVENT
BEGIN:VEVENT
DTSTART;TZID=America/New_York:20260618T183000
DTEND;TZID=America/New_York:20260618T193000
DTSTAMP:20260424T041552
CREATED:20260108T214926Z
LAST-MODIFIED:20260108T214926Z
UID:3688-1781807400-1781811000@trinityskippack.org
SUMMARY:Trinity Worship Committee -- June 2026
DESCRIPTION:
URL:https://trinityskippack.org/event/trinity-worship-committee-june-2026/
LOCATION:PA
END:VEVENT
END:VCALENDAR