BEGIN:VCALENDAR
VERSION:2.0
PRODID:-//Trinity Christian Skippack - ECPv6.15.20//NONSGML v1.0//EN
CALSCALE:GREGORIAN
METHOD:PUBLISH
X-ORIGINAL-URL:https://trinityskippack.org
X-WR-CALDESC:Events for Trinity Christian Skippack
REFRESH-INTERVAL;VALUE=DURATION:PT1H
X-Robots-Tag:noindex
X-PUBLISHED-TTL:PT1H
BEGIN:VTIMEZONE
TZID:America/New_York
BEGIN:DAYLIGHT
TZOFFSETFROM:-0500
TZOFFSETTO:-0400
TZNAME:EDT
DTSTART:20250309T070000
END:DAYLIGHT
BEGIN:STANDARD
TZOFFSETFROM:-0400
TZOFFSETTO:-0500
TZNAME:EST
DTSTART:20251102T060000
END:STANDARD
BEGIN:DAYLIGHT
TZOFFSETFROM:-0500
TZOFFSETTO:-0400
TZNAME:EDT
DTSTART:20260308T070000
END:DAYLIGHT
BEGIN:STANDARD
TZOFFSETFROM:-0400
TZOFFSETTO:-0500
TZNAME:EST
DTSTART:20261101T060000
END:STANDARD
BEGIN:DAYLIGHT
TZOFFSETFROM:-0500
TZOFFSETTO:-0400
TZNAME:EDT
DTSTART:20270314T070000
END:DAYLIGHT
BEGIN:STANDARD
TZOFFSETFROM:-0400
TZOFFSETTO:-0500
TZNAME:EST
DTSTART:20271107T060000
END:STANDARD
END:VTIMEZONE
BEGIN:VEVENT
DTSTART;TZID=America/New_York:20260630T000000
DTEND;TZID=America/New_York:20260630T140000
DTSTAMP:20260422T184604
CREATED:20241004T154025Z
LAST-MODIFIED:20260108T214516Z
UID:2642-1782777600-1782828000@trinityskippack.org
SUMMARY:Lunch Bunch Bible Study -- June 2026
DESCRIPTION:Lunch Bunch meets weekly on Tuesday at 12 pm for food\, fellowship\, and Bible study. We each bring a lunch and enjoy conversation as we eat. We typically study the Biblical text that will be the focus of the up-coming Sunday worship service. Parents are invited to bring their children. We gather in our Education Building’s Social Hall. Please join us!
URL:https://trinityskippack.org/event/lunch-bunch-bible-study-31/
LOCATION:Trinity Christian UCC\, 2009 Church Road\, Skippack\, PA\, 19474\, United States
END:VEVENT
BEGIN:VEVENT
DTSTART;TZID=America/New_York:20260702T190000
DTEND;TZID=America/New_York:20260702T200000
DTSTAMP:20260422T184604
CREATED:20260122T165733Z
LAST-MODIFIED:20260122T165733Z
UID:3735-1783018800-1783022400@trinityskippack.org
SUMMARY:Trinity Property Committee -- July 2\, 2026
DESCRIPTION:Join our Property Committee as we care for our Church’s properties.
URL:https://trinityskippack.org/event/trinity-property-committee-july-2-2026/
LOCATION:Trinity Christian UCC\, 2009 Church Road\, Skippack\, PA\, 19474\, United States
END:VEVENT
BEGIN:VEVENT
DTSTART;TZID=America/New_York:20260704T100000
DTEND;TZID=America/New_York:20260704T120000
DTSTAMP:20260422T184604
CREATED:20260122T165259Z
LAST-MODIFIED:20260122T165259Z
UID:3731-1783159200-1783166400@trinityskippack.org
SUMMARY:Skippack July 4 Parade -- 2026
DESCRIPTION:Join Trinity Members and Friends as we walk in our fabulous July 4 Parade. Skippack has one of the largest parades in the East Coast. We will greet our neighbors and celebrate our church’s historic presence in the little village of Skippack. This year\, we will celebrate the 250th anniversary of the United States of America!
URL:https://trinityskippack.org/event/skippack-july-4-parade-2026/
LOCATION:Trinity Christian UCC\, 2009 Church Road\, Skippack\, PA\, 19474\, United States
END:VEVENT
BEGIN:VEVENT
DTSTART;TZID=America/New_York:20260705T101500
DTEND;TZID=America/New_York:20260705T113000
DTSTAMP:20260422T184604
CREATED:20241107T174758Z
LAST-MODIFIED:20260108T214410Z
UID:2756-1783246500-1783251000@trinityskippack.org
SUMMARY:Sunday Worship and Adult Bible Study -- July 2026
DESCRIPTION:Everyone is welcome to join us on Sunday mornings at Trinity! Our weekly worship service begins at 10:15. Our pastor preaches the word of God and emphasizes how our faith guides and impacts our lives. Our services blend both traditional and contemporary music supported by our wonderful choir. \nWe have professional nursery caregivers who provide childcare to our kids 5 and under during worship. \nAdults are invited to our weekly Bible Study at 9 am. We gather for conversation and coffee. We discuss the intersection of our Christain faith with timely current events.
URL:https://trinityskippack.org/event/sunday-worship-and-adult-bible-study-june-2025-5/
LOCATION:Trinity Christian UCC\, 2009 Church Road\, Skippack\, PA\, 19474\, United States
END:VEVENT
BEGIN:VEVENT
DTSTART;TZID=America/New_York:20260707T120000
DTEND;TZID=America/New_York:20260707T140000
DTSTAMP:20260422T184604
CREATED:20260121T164227Z
LAST-MODIFIED:20260122T163750Z
UID:2646-1783425600-1783432800@trinityskippack.org
SUMMARY:Lunch Bunch Bible Study -- July 2026
DESCRIPTION:Lunch Bunch meets weekly on Tuesday at 12 pm for food\, fellowship\, and Bible study. We each bring a lunch and enjoy conversation as we eat. We typically study the Biblical text that will be the focus of the up-coming Sunday worship service. Parents are invited to bring their children. We gather in our Education Building’s Social Hall. Please join us!
URL:https://trinityskippack.org/event/lunch-bunch-bible-study-33/
LOCATION:Trinity Christian UCC\, 2009 Church Road\, Skippack\, PA\, 19474\, United States
END:VEVENT
BEGIN:VEVENT
DTSTART;TZID=America/New_York:20260709T190000
DTEND;TZID=America/New_York:20260709T200000
DTSTAMP:20260422T184604
CREATED:20260122T165845Z
LAST-MODIFIED:20260122T165845Z
UID:3737-1783623600-1783627200@trinityskippack.org
SUMMARY:Trinity Consistory -- July 2026
DESCRIPTION:
URL:https://trinityskippack.org/event/trinity-consistory-july-2026/
LOCATION:Trinity Christian UCC\, 2009 Church Road\, Skippack\, PA\, 19474\, United States
END:VEVENT
BEGIN:VEVENT
DTSTART;TZID=America/New_York:20260711T083000
DTEND;TZID=America/New_York:20260711T100000
DTSTAMP:20260422T184604
CREATED:20260121T161858Z
LAST-MODIFIED:20260122T163850Z
UID:2605-1783758600-1783764000@trinityskippack.org
SUMMARY:July Men's Breakfast -- 2026
DESCRIPTION:All men are invited to our informal and fun monthly breakfast at the Energy Station in Harleysville. We gather on the second Saturday of the month at 8:30 am for prayer\, food and conversation. Please join us
URL:https://trinityskippack.org/event/july-mens-breakfast/
LOCATION:The Energy Station\, 2710 Shelly Road\, Harleysville\, PA\, 19438\, United States
END:VEVENT
BEGIN:VEVENT
DTSTART;TZID=America/New_York:20260712T101500
DTEND;TZID=America/New_York:20260712T113000
DTSTAMP:20260422T184604
CREATED:20260121T175301Z
LAST-MODIFIED:20260122T163441Z
UID:2758-1783851300-1783855800@trinityskippack.org
SUMMARY:Sunday Worship and Adult Bible Study -- July 2026
DESCRIPTION:Everyone is welcome to join us on Sunday mornings at Trinity! Our weekly worship service begins at 10:15. Our pastor preaches the word of God and emphasizes how our faith guides and impacts our lives. Our services blend both traditional and contemporary music supported by our wonderful choir. \nWe have professional nursery caregivers who provide childcare to our kids 5 and under during worship. \nAdults are invited to our weekly Bible Study at 9 am. We gather for conversation and coffee. We discuss the intersection of our Christain faith with timely current events.
URL:https://trinityskippack.org/event/sunday-worship-and-adult-bible-study-july-2025/
LOCATION:Trinity Christian UCC\, 2009 Church Road\, Skippack\, PA\, 19474\, United States
END:VEVENT
BEGIN:VEVENT
DTSTART;TZID=America/New_York:20260714T120000
DTEND;TZID=America/New_York:20260714T140000
DTSTAMP:20260422T184604
CREATED:20260121T164343Z
LAST-MODIFIED:20260122T164126Z
UID:2648-1784030400-1784037600@trinityskippack.org
SUMMARY:Lunch Bunch Bible Study -- July 2026
DESCRIPTION:Lunch Bunch meets weekly on Tuesday at 12 pm for food\, fellowship\, and Bible study. We each bring a lunch and enjoy conversation as we eat. We typically study the Biblical text that will be the focus of the up-coming Sunday worship service. Parents are invited to bring their children. We gather in our Education Building’s Social Hall. Please join us!
URL:https://trinityskippack.org/event/lunch-bunch-bible-study-34/
LOCATION:Trinity Christian UCC\, 2009 Church Road\, Skippack\, PA\, 19474\, United States
END:VEVENT
BEGIN:VEVENT
DTSTART;TZID=America/New_York:20260716T183000
DTEND;TZID=America/New_York:20260716T193000
DTSTAMP:20260422T184604
CREATED:20260122T165938Z
LAST-MODIFIED:20260122T195757Z
UID:3739-1784226600-1784230200@trinityskippack.org
SUMMARY:Trinity Worship Committee -- July 2026
DESCRIPTION:
URL:https://trinityskippack.org/event/trinity-worship-committee-july-2026/
LOCATION:PA
END:VEVENT
BEGIN:VEVENT
DTSTART;TZID=America/New_York:20260719T101500
DTEND;TZID=America/New_York:20260719T113000
DTSTAMP:20260422T184604
CREATED:20260121T175349Z
LAST-MODIFIED:20260122T163954Z
UID:2763-1784456100-1784460600@trinityskippack.org
SUMMARY:Sunday Worship and Adult Bible Study -- July 2026
DESCRIPTION:Everyone is welcome to join us on Sunday mornings at Trinity! Our weekly worship service begins at 10:15. Our pastor preaches the word of God and emphasizes how our faith guides and impacts our lives. Our services blend both traditional and contemporary music supported by our wonderful choir. \nWe have professional nursery caregivers who provide childcare to our kids 5 and under during worship. \nAdults are invited to our weekly Bible Study at 9 am. We gather for conversation and coffee. We discuss the intersection of our Christain faith with timely current events.
URL:https://trinityskippack.org/event/sunday-worship-and-adult-bible-study-july-2025-2/
LOCATION:Trinity Christian UCC\, 2009 Church Road\, Skippack\, PA\, 19474\, United States
END:VEVENT
BEGIN:VEVENT
DTSTART;TZID=America/New_York:20260721T120000
DTEND;TZID=America/New_York:20260721T140000
DTSTAMP:20260422T184604
CREATED:20260121T164446Z
LAST-MODIFIED:20260122T164755Z
UID:2651-1784635200-1784642400@trinityskippack.org
SUMMARY:Lunch Bunch Bible Study -- July 2026
DESCRIPTION:Lunch Bunch meets weekly on Tuesday at 12 pm for food\, fellowship\, and Bible study. We each bring a lunch and enjoy conversation as we eat. We typically study the Biblical text that will be the focus of the up-coming Sunday worship service. Parents are invited to bring their children. We gather in our Education Building’s Social Hall. Please join us!
URL:https://trinityskippack.org/event/lunch-bunch-bible-study-35/
LOCATION:Trinity Christian UCC\, 2009 Church Road\, Skippack\, PA\, 19474\, United States
END:VEVENT
BEGIN:VEVENT
DTSTART;TZID=America/New_York:20260725T083000
DTEND;TZID=America/New_York:20260725T100000
DTSTAMP:20260422T184604
CREATED:20260121T162507Z
LAST-MODIFIED:20260122T164931Z
UID:2617-1784968200-1784973600@trinityskippack.org
SUMMARY:July Women's Breakfast -- 2026
DESCRIPTION:All women are invited to our informal and fun monthly breakfast at the So Much to Give Inclusive Cafe in Cedars. We gather on the fourth Saturday of the month at 8:30 am for prayer\, food and conversation. Please join us!
URL:https://trinityskippack.org/event/july-womens-breakfast/
LOCATION:So Much To Give Incluive Cafe\, 3401 Skippack Pike\, Cedars\, 19423\, United States
END:VEVENT
BEGIN:VEVENT
DTSTART;TZID=America/New_York:20260726T101500
DTEND;TZID=America/New_York:20260726T113000
DTSTAMP:20260422T184604
CREATED:20260121T175447Z
LAST-MODIFIED:20260122T164431Z
UID:2760-1785060900-1785065400@trinityskippack.org
SUMMARY:Sunday Worship and Adult Bible Study -- July 2026
DESCRIPTION:Everyone is welcome to join us on Sunday mornings at Trinity! Our weekly worship service begins at 10:15. Our pastor preaches the word of God and emphasizes how our faith guides and impacts our lives. Our services blend both traditional and contemporary music supported by our wonderful choir. \nWe have professional nursery caregivers who provide childcare to our kids 5 and under during worship. \nAdults are invited to our weekly Bible Study at 9 am. We gather for conversation and coffee. We discuss the intersection of our Christain faith with timely current events.
URL:https://trinityskippack.org/event/sunday-worship-and-adult-bible-study-july-2025-3/
LOCATION:Trinity Christian UCC\, 2009 Church Road\, Skippack\, PA\, 19474\, United States
END:VEVENT
BEGIN:VEVENT
DTSTART;TZID=America/New_York:20260728T120000
DTEND;TZID=America/New_York:20260728T140000
DTSTAMP:20260422T184604
CREATED:20260121T164532Z
LAST-MODIFIED:20260122T191322Z
UID:2654-1785240000-1785247200@trinityskippack.org
SUMMARY:Lunch Bunch Bible Study -- July 2026
DESCRIPTION:Lunch Bunch meets weekly on Tuesday at 12 pm for food\, fellowship\, and Bible study. We each bring a lunch and enjoy conversation as we eat. We typically study the Biblical text that will be the focus of the up-coming Sunday worship service. Parents are invited to bring their children. We gather in our Education Building’s Social Hall. Please join us!
URL:https://trinityskippack.org/event/lunch-bunch-bible-study-36/
LOCATION:Trinity Christian UCC\, 2009 Church Road\, Skippack\, PA\, 19474\, United States
END:VEVENT
BEGIN:VEVENT
DTSTART;TZID=America/New_York:20260802T101500
DTEND;TZID=America/New_York:20260802T113000
DTSTAMP:20260422T184604
CREATED:20260121T175545Z
LAST-MODIFIED:20260122T165515Z
UID:2762-1785665700-1785670200@trinityskippack.org
SUMMARY:Sunday Worship and Adult Bible Study -- August 2026
DESCRIPTION:Everyone is welcome to join us on Sunday mornings at Trinity! Our weekly worship service begins at 10:15. Our pastor preaches the word of God and emphasizes how our faith guides and impacts our lives. Our services blend both traditional and contemporary music supported by our wonderful choir. \nWe have professional nursery caregivers who provide childcare to our kids 5 and under during worship. \nAdults are invited to our weekly Bible Study at 9 am. We gather for conversation and coffee. We discuss the intersection of our Christain faith with timely current events.
URL:https://trinityskippack.org/event/sunday-worship-and-adult-bible-study-july-2025-4/
LOCATION:Trinity Christian UCC\, 2009 Church Road\, Skippack\, PA\, 19474\, United States
END:VEVENT
BEGIN:VEVENT
DTSTART;TZID=America/New_York:20260804T120000
DTEND;TZID=America/New_York:20260804T140000
DTSTAMP:20260422T184604
CREATED:20260121T164643Z
LAST-MODIFIED:20260122T191513Z
UID:2656-1785844800-1785852000@trinityskippack.org
SUMMARY:Lunch Bunch Bible Study -- August 2026
DESCRIPTION:Lunch Bunch meets weekly on Tuesday at 12 pm for food\, fellowship\, and Bible study. We each bring a lunch and enjoy conversation as we eat. We typically study the Biblical text that will be the focus of the up-coming Sunday worship service. Parents are invited to bring their children. We gather in our Education Building’s Social Hall. Please join us!
URL:https://trinityskippack.org/event/lunch-bunch-bible-study-37/
LOCATION:Trinity Christian UCC\, 2009 Church Road\, Skippack\, PA\, 19474\, United States
END:VEVENT
BEGIN:VEVENT
DTSTART;TZID=America/New_York:20260806T190000
DTEND;TZID=America/New_York:20260806T200000
DTSTAMP:20260422T184604
CREATED:20260122T195412Z
LAST-MODIFIED:20260122T195412Z
UID:3759-1786042800-1786046400@trinityskippack.org
SUMMARY:Trinity Property Committee -- August 2026
DESCRIPTION:
URL:https://trinityskippack.org/event/trinity-property-committee-august-2026/
LOCATION:PA
END:VEVENT
BEGIN:VEVENT
DTSTART;TZID=America/New_York:20260808T083000
DTEND;TZID=America/New_York:20260808T100000
DTSTAMP:20260422T184604
CREATED:20260121T161946Z
LAST-MODIFIED:20260122T191743Z
UID:2607-1786177800-1786183200@trinityskippack.org
SUMMARY:August Men's Breakfast -- 2026
DESCRIPTION:All men are invited to our informal and fun monthly breakfast at the Energy Station in Harleysville. We gather on the second Saturday of the month at 8:30 am for prayer\, food and conversation. Please join us
URL:https://trinityskippack.org/event/august-mens-breakfast/
LOCATION:The Energy Station\, 2710 Shelly Road\, Harleysville\, PA\, 19438\, United States
END:VEVENT
BEGIN:VEVENT
DTSTART;TZID=America/New_York:20260809T101500
DTEND;TZID=America/New_York:20260809T113000
DTSTAMP:20260422T184604
CREATED:20260121T154515Z
LAST-MODIFIED:20260122T194056Z
UID:2120-1786270500-1786275000@trinityskippack.org
SUMMARY:Blessing of the Backpacks -- August 2026
DESCRIPTION:Join us at Trinity on Sunday. August 9 as we bless all of our students and teachers for the up-coming school year. Please bring your backpack\, satchel\, or briefcase.
URL:https://trinityskippack.org/event/blessing-of-the-backpacks/
LOCATION:Trinity Christian UCC\, 2009 Church Road\, Skippack\, PA\, 19474\, United States
END:VEVENT
BEGIN:VEVENT
DTSTART;TZID=America/New_York:20260809T101500
DTEND;TZID=America/New_York:20260809T113000
DTSTAMP:20260422T184604
CREATED:20260121T175822Z
LAST-MODIFIED:20260122T190552Z
UID:2773-1786270500-1786275000@trinityskippack.org
SUMMARY:Sunday Worship and Adult Bible Study -- August 2026
DESCRIPTION:Everyone is welcome to join us on Sunday mornings at Trinity! Our weekly worship service begins at 10:15. Our pastor preaches the word of God and emphasizes how our faith guides and impacts our lives. Our services blend both traditional and contemporary music supported by our wonderful choir. \nWe have professional nursery caregivers who provide childcare to our kids 5 and under during worship. \nAdults are invited to our weekly Bible Study at 9 am. We gather for conversation and coffee. We discuss the intersection of our Christain faith with timely current events.
URL:https://trinityskippack.org/event/sunday-worship-and-adult-bible-study-august-2025/
LOCATION:Trinity Christian UCC\, 2009 Church Road\, Skippack\, PA\, 19474\, United States
END:VEVENT
BEGIN:VEVENT
DTSTART;TZID=America/New_York:20260811T120000
DTEND;TZID=America/New_York:20260811T140000
DTSTAMP:20260422T184604
CREATED:20260121T164745Z
LAST-MODIFIED:20260122T191949Z
UID:2659-1786449600-1786456800@trinityskippack.org
SUMMARY:Lunch Bunch Bible Study -- August 2026
DESCRIPTION:Lunch Bunch meets weekly on Tuesday at 12 pm for food\, fellowship\, and Bible study. We each bring a lunch and enjoy conversation as we eat. We typically study the Biblical text that will be the focus of the up-coming Sunday worship service. Parents are invited to bring their children. We gather in our Education Building’s Social Hall. Please join us!
URL:https://trinityskippack.org/event/lunch-bunch-bible-study-38/
LOCATION:Trinity Christian UCC\, 2009 Church Road\, Skippack\, PA\, 19474\, United States
END:VEVENT
BEGIN:VEVENT
DTSTART;TZID=America/New_York:20260813T190000
DTEND;TZID=America/New_York:20260813T200000
DTSTAMP:20260422T184604
CREATED:20260122T195509Z
LAST-MODIFIED:20260122T195509Z
UID:3761-1786647600-1786651200@trinityskippack.org
SUMMARY:Trinity Consistory -- August 2026
DESCRIPTION:
URL:https://trinityskippack.org/event/trinity-consistory-august-2026/
LOCATION:PA
END:VEVENT
BEGIN:VEVENT
DTSTART;TZID=America/New_York:20260816T101500
DTEND;TZID=America/New_York:20260816T111500
DTSTAMP:20260422T184604
CREATED:20260121T180013Z
LAST-MODIFIED:20260122T190829Z
UID:2775-1786875300-1786878900@trinityskippack.org
SUMMARY:Sunday Worship and Adult Bible Study -- August 2026
DESCRIPTION:Everyone is welcome to join us on Sunday mornings at Trinity! Our weekly worship service begins at 10:15. Our pastor preaches the word of God and emphasizes how our faith guides and impacts our lives. Our services blend both traditional and contemporary music supported by our wonderful choir. \nWe have professional nursery caregivers who provide childcare to our kids 5 and under during worship. \nAdults are invited to our weekly Bible Study at 9 am. We gather for conversation and coffee. We discuss the intersection of our Christain faith with timely current events.
URL:https://trinityskippack.org/event/sunday-worship-and-adult-bible-study-august-2025-3/
LOCATION:Trinity Christian UCC\, 2009 Church Road\, Skippack\, PA\, 19474\, United States
END:VEVENT
BEGIN:VEVENT
DTSTART;TZID=America/New_York:20260818T120000
DTEND;TZID=America/New_York:20260818T140000
DTSTAMP:20260422T184604
CREATED:20260121T164837Z
LAST-MODIFIED:20260122T192112Z
UID:2661-1787054400-1787061600@trinityskippack.org
SUMMARY:Lunch Bunch Bible Study -- August 2026
DESCRIPTION:Lunch Bunch meets weekly on Tuesday at 12 pm for food\, fellowship\, and Bible study. We each bring a lunch and enjoy conversation as we eat. We typically study the Biblical text that will be the focus of the up-coming Sunday worship service. Parents are invited to bring their children. We gather in our Education Building’s Social Hall. Please join us!
URL:https://trinityskippack.org/event/lunch-bunch-bible-study-39/
LOCATION:Trinity Christian UCC\, 2009 Church Road\, Skippack\, PA\, 19474\, United States
END:VEVENT
BEGIN:VEVENT
DTSTART;TZID=America/New_York:20260820T183000
DTEND;TZID=America/New_York:20260820T193000
DTSTAMP:20260422T184604
CREATED:20260122T195610Z
LAST-MODIFIED:20260122T195610Z
UID:3763-1787250600-1787254200@trinityskippack.org
SUMMARY:Trinity Worship Committee -- August 2026
DESCRIPTION:
URL:https://trinityskippack.org/event/trinity-worship-committee-august-2026/
LOCATION:PA
END:VEVENT
BEGIN:VEVENT
DTSTART;TZID=America/New_York:20260822T083000
DTEND;TZID=America/New_York:20260822T100000
DTSTAMP:20260422T184604
CREATED:20260121T162603Z
LAST-MODIFIED:20260122T192243Z
UID:2619-1787387400-1787392800@trinityskippack.org
SUMMARY:August Women's Breakfast -- 2026
DESCRIPTION:All women are invited to our informal and fun monthly breakfast at the So Much to Give Inclusive Cafe in Cedars. We gather on the fourth Saturday of the month at 8:30 am for prayer\, food and conversation. Please join us!
URL:https://trinityskippack.org/event/august-womens-breakfast/
LOCATION:So Much To Give Incluive Cafe\, 3401 Skippack Pike\, Cedars\, 19423\, United States
END:VEVENT
BEGIN:VEVENT
DTSTART;TZID=America/New_York:20260823T101500
DTEND;TZID=America/New_York:20260823T113000
DTSTAMP:20260422T184604
CREATED:20260121T175914Z
LAST-MODIFIED:20260122T190707Z
UID:2774-1787480100-1787484600@trinityskippack.org
SUMMARY:Sunday Worship and Adult Bible Study -- August 2026
DESCRIPTION:Everyone is welcome to join us on Sunday mornings at Trinity! Our weekly worship service begins at 10:15. Our pastor preaches the word of God and emphasizes how our faith guides and impacts our lives. Our services blend both traditional and contemporary music supported by our wonderful choir. \nWe have professional nursery caregivers who provide childcare to our kids 5 and under during worship. \nAdults are invited to our weekly Bible Study at 9 am. We gather for conversation and coffee. We discuss the intersection of our Christain faith with timely current events.
URL:https://trinityskippack.org/event/sunday-worship-and-adult-bible-study-august-2025-2/
LOCATION:Trinity Christian UCC\, 2009 Church Road\, Skippack\, PA\, 19474\, United States
END:VEVENT
BEGIN:VEVENT
DTSTART;TZID=America/New_York:20260825T120000
DTEND;TZID=America/New_York:20260825T140000
DTSTAMP:20260422T184604
CREATED:20260121T164922Z
LAST-MODIFIED:20260122T195105Z
UID:2663-1787659200-1787666400@trinityskippack.org
SUMMARY:Lunch Bunch Bible Study -- August 2026
DESCRIPTION:Lunch Bunch meets weekly on Tuesday at 12 pm for food\, fellowship\, and Bible study. We each bring a lunch and enjoy conversation as we eat. We typically study the Biblical text that will be the focus of the up-coming Sunday worship service. Parents are invited to bring their children. We gather in our Education Building’s Social Hall. Please join us!
URL:https://trinityskippack.org/event/lunch-bunch-bible-study-40/
LOCATION:Trinity Christian UCC\, 2009 Church Road\, Skippack\, PA\, 19474\, United States
END:VEVENT
BEGIN:VEVENT
DTSTART;TZID=America/New_York:20260830T101500
DTEND;TZID=America/New_York:20260830T113000
DTSTAMP:20260422T184604
CREATED:20260121T180108Z
LAST-MODIFIED:20260122T190941Z
UID:2776-1788084900-1788089400@trinityskippack.org
SUMMARY:Sunday Worship and Adult Bible Study -- August 2026
DESCRIPTION:Everyone is welcome to join us on Sunday mornings at Trinity! Our weekly worship service begins at 10:15. Our pastor preaches the word of God and emphasizes how our faith guides and impacts our lives. Our services blend both traditional and contemporary music supported by our wonderful choir. \nWe have professional nursery caregivers who provide childcare to our kids 5 and under during worship. \nAdults are invited to our weekly Bible Study at 9 am. We gather for conversation and coffee. We discuss the intersection of our Christain faith with timely current events.
URL:https://trinityskippack.org/event/sunday-worship-and-adult-bible-study-august-2025-4/
LOCATION:Trinity Christian UCC\, 2009 Church Road\, Skippack\, PA\, 19474\, United States
END:VEVENT
END:VCALENDAR